BEGIN:VCALENDAR
VERSION:2.0
PRODID:-//www.fauquierhabitat.org//NONSGML kigkonsult.se iCalcreator 2.30.1
 0//
CALSCALE:GREGORIAN
METHOD:PUBLISH
UID:12b44faa-14c6-4d2f-bb2a-f53a34689143
X-WR-CALDESC:
X-WR-RELCALID:7a496bf66dd7981ca82ec024c1c17d7c
X-WR-TIMEZONE:America/Chicago
BEGIN:VTIMEZONE
TZID:America/Chicago
BEGIN:STANDARD
TZNAME:CST
DTSTART:20311102T020000
TZOFFSETFROM:-0500
TZOFFSETTO:-0600
RDATE:20321107T020000
END:STANDARD
BEGIN:DAYLIGHT
TZNAME:CDT
DTSTART:20310309T020000
TZOFFSETFROM:-0600
TZOFFSETTO:-0500
RDATE:20320314T020000
RDATE:20330313T020000
END:DAYLIGHT
END:VTIMEZONE
BEGIN:VEVENT
UID:747d96f4-a780-4136-b0bd-27afb6ddf72d
DTSTAMP:20260419T150553Z
DESCRIPTION:
DTSTART;TZID=America/Chicago:20311223T170000
DTEND;TZID=America/Chicago:20311223T180000
LOCATION:Fauquier Habitat Office
SUMMARY:Board of Directors Meeting
END:VEVENT
END:VCALENDAR
