BEGIN:VCALENDAR
VERSION:2.0
PRODID:-//www.fauquierhabitat.org//NONSGML kigkonsult.se iCalcreator 2.30.1
 0//
CALSCALE:GREGORIAN
METHOD:PUBLISH
UID:dc09f611-168a-4f2c-8aed-339c669df1d3
X-WR-CALDESC:
X-WR-RELCALID:4b524321677680338d1c40b79f5a71ba
X-WR-TIMEZONE:America/Chicago
BEGIN:VTIMEZONE
TZID:America/Chicago
BEGIN:STANDARD
TZNAME:CST
DTSTART:20301103T020000
TZOFFSETFROM:-0500
TZOFFSETTO:-0600
RDATE:20311102T020000
RDATE:20321107T020000
END:STANDARD
BEGIN:DAYLIGHT
TZNAME:CDT
DTSTART:20310309T020000
TZOFFSETFROM:-0600
TZOFFSETTO:-0500
RDATE:20320314T020000
RDATE:20330313T020000
END:DAYLIGHT
END:VTIMEZONE
BEGIN:VEVENT
UID:9f0cf0e7-0176-41b0-880e-204fd5c62a3a
DTSTAMP:20260419T121549Z
DESCRIPTION:
DTSTART;TZID=America/Chicago:20311028T170000
DTEND;TZID=America/Chicago:20311028T180000
LOCATION:Fauquier Habitat Office
SUMMARY:Board of Directors Meeting
END:VEVENT
END:VCALENDAR
