BEGIN:VCALENDAR
VERSION:2.0
PRODID:-//www.fauquierhabitat.org//NONSGML kigkonsult.se iCalcreator 2.30.1
 0//
CALSCALE:GREGORIAN
METHOD:PUBLISH
UID:897b81f7-0b46-4143-9b05-694e6d1347c4
X-WR-CALDESC:
X-WR-RELCALID:b110addcdee1b27d5814a495dcad38bf
X-WR-TIMEZONE:America/Chicago
BEGIN:VTIMEZONE
TZID:America/Chicago
BEGIN:STANDARD
TZNAME:CST
DTSTART:20231105T020000
TZOFFSETFROM:-0500
TZOFFSETTO:-0600
RDATE:20241103T020000
RDATE:20251102T020000
END:STANDARD
BEGIN:DAYLIGHT
TZNAME:CDT
DTSTART:20240310T020000
TZOFFSETFROM:-0600
TZOFFSETTO:-0500
RDATE:20250309T020000
END:DAYLIGHT
END:VTIMEZONE
BEGIN:VEVENT
UID:234cd9a2-aacd-4979-9c7d-e97ed7b1d13e
DTSTAMP:20260426T042359Z
DESCRIPTION:
DTSTART;TZID=America/Chicago:20240827T170000
DTEND;TZID=America/Chicago:20240827T180000
LOCATION:Fauquier Habitat Office
SUMMARY:Board of Directors Meeting
END:VEVENT
END:VCALENDAR
