BEGIN:VCALENDAR
VERSION:2.0
PRODID:-//www.fauquierhabitat.org//NONSGML kigkonsult.se iCalcreator 2.30.1
 0//
CALSCALE:GREGORIAN
METHOD:PUBLISH
UID:fbf1600b-e2b2-4ab2-b5bd-b9e078fdbfe8
X-WR-CALDESC:
X-WR-RELCALID:36b0a62513f0d8d6b0c7450c5ea898ee
X-WR-TIMEZONE:America/New_York
BEGIN:VTIMEZONE
TZID:America/New_York
BEGIN:STANDARD
TZNAME:EST
DTSTART:20211107T020000
TZOFFSETFROM:-0400
TZOFFSETTO:-0500
RDATE:20221106T020000
RDATE:20231105T020000
END:STANDARD
BEGIN:DAYLIGHT
TZNAME:EDT
DTSTART:20220313T020000
TZOFFSETFROM:-0500
TZOFFSETTO:-0400
RDATE:20230312T020000
END:DAYLIGHT
END:VTIMEZONE
BEGIN:VEVENT
UID:7e148703-2243-4548-a59d-33a8ac445322
DTSTAMP:20260421T164254Z
DESCRIPTION:
DTSTART;TZID=America/New_York:20220602T180000
DTEND;TZID=America/New_York:20220602T190000
LOCATION:
SUMMARY:Haiti Neighborhood Meeting
END:VEVENT
END:VCALENDAR
