BEGIN:VCALENDAR
VERSION:2.0
PRODID:-//www.fauquierhabitat.org//NONSGML kigkonsult.se iCalcreator 2.30.1
 0//
CALSCALE:GREGORIAN
METHOD:PUBLISH
UID:348c2915-4a28-4a01-8fec-c91e1c560ee9
X-WR-CALDESC:
X-WR-RELCALID:4099cd73439c746d01dbc9ce86343c84
X-WR-TIMEZONE:America/Chicago
BEGIN:VTIMEZONE
TZID:America/Chicago
BEGIN:STANDARD
TZNAME:CST
DTSTART:20211107T020000
TZOFFSETFROM:-0500
TZOFFSETTO:-0600
RDATE:20221106T020000
RDATE:20231105T020000
END:STANDARD
BEGIN:DAYLIGHT
TZNAME:CDT
DTSTART:20220313T020000
TZOFFSETFROM:-0600
TZOFFSETTO:-0500
RDATE:20230312T020000
END:DAYLIGHT
END:VTIMEZONE
BEGIN:VEVENT
UID:da965953-2da5-4b87-af2a-54011b8d3122
DTSTAMP:20260421T051435Z
DESCRIPTION:
DTSTART;TZID=America/Chicago:20220524T170000
DTEND;TZID=America/Chicago:20220524T180000
LOCATION:Fauquier Habitat Office
SUMMARY:Board of Directors Meeting
END:VEVENT
END:VCALENDAR
