BEGIN:VCALENDAR
VERSION:2.0
PRODID:-//www.fauquierhabitat.org//NONSGML kigkonsult.se iCalcreator 2.30.1
 0//
CALSCALE:GREGORIAN
METHOD:PUBLISH
UID:3ce350c7-4fef-4c0c-aa5b-d285ab1cf90b
X-WR-CALDESC:
X-WR-RELCALID:69df71b855b77eb2d48f19791daf7cea
X-WR-TIMEZONE:America/New_York
BEGIN:VTIMEZONE
TZID:America/New_York
BEGIN:STANDARD
TZNAME:EST
DTSTART:20211107T020000
TZOFFSETFROM:-0400
TZOFFSETTO:-0500
RDATE:20221106T020000
END:STANDARD
BEGIN:DAYLIGHT
TZNAME:EDT
DTSTART:20220313T020000
TZOFFSETFROM:-0500
TZOFFSETTO:-0400
RDATE:20230312T020000
END:DAYLIGHT
END:VTIMEZONE
BEGIN:VEVENT
UID:29d749ea-4c8b-4720-a62a-e24cd216c5e8
DTSTAMP:20260421T035526Z
DESCRIPTION:
DTSTART;TZID=America/New_York:20220407T180000
DTEND;TZID=America/New_York:20220407T190000
LOCATION:
SUMMARY:Haiti Neighborhood Meeting
END:VEVENT
END:VCALENDAR
