BEGIN:VCALENDAR
VERSION:2.0
PRODID:-//www.fauquierhabitat.org//NONSGML kigkonsult.se iCalcreator 2.30.1
 0//
CALSCALE:GREGORIAN
METHOD:PUBLISH
UID:88479c35-8abb-476d-9f65-89f689162dba
X-WR-CALDESC:
X-WR-RELCALID:e1f36d8bdfc6473a99ba13641fa88533
X-WR-TIMEZONE:America/Chicago
BEGIN:VTIMEZONE
TZID:America/Chicago
BEGIN:STANDARD
TZNAME:CST
DTSTART:20211107T020000
TZOFFSETFROM:-0500
TZOFFSETTO:-0600
RDATE:20221106T020000
END:STANDARD
BEGIN:DAYLIGHT
TZNAME:CDT
DTSTART:20220313T020000
TZOFFSETFROM:-0600
TZOFFSETTO:-0500
RDATE:20230312T020000
END:DAYLIGHT
END:VTIMEZONE
BEGIN:VEVENT
UID:23ce7c5d-e01a-4612-83df-c5f0a772979e
DTSTAMP:20260421T051814Z
DESCRIPTION:
DTSTART;TZID=America/Chicago:20220322T170000
DTEND;TZID=America/Chicago:20220322T180000
LOCATION:Fauquier Habitat Office
SUMMARY:Board of Directors Meeting
END:VEVENT
END:VCALENDAR
