BEGIN:VCALENDAR
VERSION:2.0
PRODID:-//www.fauquierhabitat.org//NONSGML kigkonsult.se iCalcreator 2.30.1
 0//
CALSCALE:GREGORIAN
METHOD:PUBLISH
UID:64cd690f-313c-48a9-b646-d397d94b9589
X-WR-CALDESC:
X-WR-RELCALID:7e628bf32914a57ff38cfeff809e9dc7
X-WR-TIMEZONE:America/New_York
BEGIN:VTIMEZONE
TZID:America/New_York
BEGIN:STANDARD
TZNAME:EST
DTSTART:20211107T020000
TZOFFSETFROM:-0400
TZOFFSETTO:-0500
RDATE:20221106T020000
END:STANDARD
BEGIN:DAYLIGHT
TZNAME:EDT
DTSTART:20210314T020000
TZOFFSETFROM:-0500
TZOFFSETTO:-0400
RDATE:20220313T020000
RDATE:20230312T020000
END:DAYLIGHT
END:VTIMEZONE
BEGIN:VEVENT
UID:a825a95f-2382-493c-9de3-341bf6344978
DTSTAMP:20260421T052644Z
DESCRIPTION:
DTSTART;TZID=America/New_York:20220305T100000
DTEND;TZID=America/New_York:20220305T113000
LOCATION:
SUMMARY:Applicant Information Session
END:VEVENT
END:VCALENDAR
