BEGIN:VCALENDAR
VERSION:2.0
PRODID:-//www.fauquierhabitat.org//NONSGML kigkonsult.se iCalcreator 2.30.1
 0//
CALSCALE:GREGORIAN
METHOD:PUBLISH
UID:7cc849db-4630-4ba4-ba22-91199debeed6
X-WR-CALDESC:
X-WR-RELCALID:1147c1731e551c2737d6077b30773487
X-WR-TIMEZONE:America/Chicago
BEGIN:VTIMEZONE
TZID:America/Chicago
BEGIN:STANDARD
TZNAME:CST
DTSTART:20201101T020000
TZOFFSETFROM:-0500
TZOFFSETTO:-0600
RDATE:20211107T020000
RDATE:20221106T020000
END:STANDARD
BEGIN:DAYLIGHT
TZNAME:CDT
DTSTART:20210314T020000
TZOFFSETFROM:-0600
TZOFFSETTO:-0500
RDATE:20220313T020000
END:DAYLIGHT
END:VTIMEZONE
BEGIN:VEVENT
UID:ca1bce0c-7371-495e-b268-943fc728800d
DTSTAMP:20260426T013017Z
DESCRIPTION:
DTSTART;TZID=America/Chicago:20210813T170000
DTEND;TZID=America/Chicago:20210813T180000
LOCATION:Eva Walker Park - Warrenton
SUMMARY:Faith Community Ice Cream Social
END:VEVENT
END:VCALENDAR
